BEGIN:VCALENDAR
VERSION:2.0
PRODID:-//WaldHaus-Freiburg - ECPv6.15.13//NONSGML v1.0//EN
CALSCALE:GREGORIAN
METHOD:PUBLISH
X-WR-CALNAME:WaldHaus-Freiburg
X-ORIGINAL-URL:https://www.waldhaus-freiburg.de
X-WR-CALDESC:Veranstaltungen für WaldHaus-Freiburg
REFRESH-INTERVAL;VALUE=DURATION:PT1H
X-Robots-Tag:noindex
X-PUBLISHED-TTL:PT1H
BEGIN:VTIMEZONE
TZID:UTC
BEGIN:STANDARD
TZOFFSETFROM:+0000
TZOFFSETTO:+0000
TZNAME:UTC
DTSTART:20250101T000000
END:STANDARD
END:VTIMEZONE
BEGIN:VEVENT
DTSTART;TZID=UTC:20260426T140000
DTEND;TZID=UTC:20260426T153000
DTSTAMP:20260426T023946
CREATED:20251216T144453Z
LAST-MODIFIED:20251216T144453Z
UID:231309-1777212000-1777217400@www.waldhaus-freiburg.de
SUMMARY:Sonntagsspaziergang: Das Stadtwald-Arboretum Günterstal im Frühjahr
DESCRIPTION:Der Frühling ist im Stadtwald die schönste Jahreszeit. Besonders reizvoll ist die Blüte der Magnolien. Entdecken Sie bei unserem gemeinsamen Spaziergang diese urweltlichen Pflanzen\, die schon zu Zeiten der Dinosaurier existiert haben\, sowie weitere in voller Pracht blühende Frühlingsboten. \nTreffpunkt: Waldparkplatz Wiesenweg Günterstal (ÖPNV Straßenbahn Linie 2\, Haltestelle Wiesenweg)  \nReferent: Dr. Winfried Meier\, Biologe\nTeilnahmebeitrag 6 Euro (bitte direkt beim Referenten bezahlen)\nohne Anmeldung \nIn Kooperation mit dem Verein „Freunde des Stadtwald-Arboretums Günterstal“
URL:https://www.waldhaus-freiburg.de/veranstaltung/sonntagsspaziergang-das-stadtwald-arboretum-guenterstal-im-fruehjahr-2/
LOCATION:Waldparkplatz Wiesenweg Günterstal\, Waldparkplatz Wiesenweg Günterstal
CATEGORIES:-- ohne Anmeldung --,Spaziergänge, Wanderungen, Exkursionen
END:VEVENT
BEGIN:VEVENT
DTSTART;TZID=UTC:20260426T150000
DTEND;TZID=UTC:20260426T160000
DTSTAMP:20260426T023946
CREATED:20251216T144448Z
LAST-MODIFIED:20260226T121724Z
UID:231494-1777215600-1777219200@www.waldhaus-freiburg.de
SUMMARY:Fräulein Brehms Tierleben - Die Nachtigall\, der Sprosser
DESCRIPTION:Fräulein Brehms Tierleben\, das einzige Theater für heimische bedrohte Tierarten und Sprachrohr der Wissenschaft\, gastiert im WaldHaus Freiburg an ausgewählten Sonntagnachmittagen. Diesen Sonntag um 14 Uhr hat Barabara Geiger\, die das Brehm-Theater 2008 kreierte und bis heute der kreative Kopf hinter den Kulissen ist\, einen Meistersänger im Frolleingepäck: Luscinia – Die Nachtigall\, der Sprosser. Von Kontergesängen bis hin zu im rhythmischen Allegro vorgetragenen Schnatterschnurrphrasen mit anmutigem Schlußakkord\, die Welt darf gespannt sein. Zumal die Nachtigall Premiere auf der WaldHaus-Bühne feiert. \nDie Vorstellung ist für neugierige Erwachsene und Kinder ab 10 Jahren geeignet. Ohne Anmeldung. Der Eintritt ist frei\, Spenden sind erwünscht. \nWeitere Informationen unter www.brehms-tierleben.com \nNach vorheriger Absprache auch Vorstellungen für Schulklassen möglich\, Info unter: 0177 852 6099 und info@brehms-tierleben.com. \n \nwww.brehms-tierleben.com \nDie Themen finden Sie einige Wochen vorher unter: https://www.waldhaus-freiburg.de/veranstaltungskalender/  oder 0761 896477-10. \nNach vorheriger Absprache auch Vorstellungen für Schulklassen möglich\, Info unter: 0177 852 6099 und info@brehms-tierleben.com. \n 
URL:https://www.waldhaus-freiburg.de/veranstaltung/fraeulein-brehms-tierleben-55/
LOCATION:WaldHaus Freiburg\, WaldHaus Freiburg\, Deutschland
CATEGORIES:-- ohne Anmeldung --,-- rollstuhlgerecht --,Vorträge, Theater, Musik
END:VEVENT
BEGIN:VEVENT
DTSTART;TZID=UTC:20260426T160000
DTEND;TZID=UTC:20260426T170000
DTSTAMP:20260426T023946
CREATED:20251216T144444Z
LAST-MODIFIED:20260226T122343Z
UID:231491-1777219200-1777222800@www.waldhaus-freiburg.de
SUMMARY:Fräulein Brehms Tierleben: Das Schwein
DESCRIPTION:Fräulein Brehms Tierleben\, das einzige Theater für heimische bedrohte Tierarten und Sprachrohr der Wissenschaft\, gastiert im WaldHaus Freiburg an ausgewählten Sonntagnachmittagen. Diesen Sonntag um 16 Uhr zaubert Barabara Geiger\, die das Fräulein-Theater 2008 kreierte\, Sus scrofa – Das Schwein aus ihrem Koffer. Muskelnasenpflüge und Lockenpracht\, eingebaute Kühlschränke mit Heizfunktion\, Achtstundenfuttertage – das schafft kein Mastschwein\, das geht nur im wilden Walde – eine unbändige Neugierde und Gelassenheit\, was Menschen angeht\, das ist Schweinewelt\, die sich dem staunenden Publikum offenbart. \nDie Vorstellung ist für neugierige Erwachsene und Kinder ab 10 Jahren geeignet. Ohne Anmeldung. Der Eintritt ist frei\, Spenden sind erwünscht. \nWeitere Informationen unter www.brehms-tierleben.com \nNach vorheriger Absprache auch Vorstellungen für Schulklassen möglich\, Info unter: 0177 852 6099 und info@brehms-tierleben.com.
URL:https://www.waldhaus-freiburg.de/veranstaltung/fraeulein-brehms-tierleben-54/
LOCATION:WaldHaus Freiburg\, WaldHaus Freiburg\, Deutschland
CATEGORIES:-- ohne Anmeldung --,-- rollstuhlgerecht --,Vorträge, Theater, Musik
END:VEVENT
END:VCALENDAR